BEGIN:VCALENDAR
VERSION:2.0
PRODID:-//eventon.com NONSGML v1.0//EN
CALSCALE:GREGORIAN
METHOD:PUBLISH
BEGIN:VEVENT
UID:69e7365be1ac9
DTSTAMP:20260421T083331Z
DTSTART:20201114T210000Z
DTEND:20201115T020000Z
LOCATION:Sunshine Coast Harley-Davidson 490 Maroochydore Road
SUMMARY:Shop Ride - Sunshine Coast Harley-Davidson
DESCRIPTION:Mark your calendars. We’re planning our next Shop Ride and we
 ’re riding out to the Glass House Brewery. Route will be determined Satur
 day morning when we set off. Meet us at Sunshine Coast Harley-Davidson® on
  Saturday 14th November at 10:00am for stands up at 10:30am. Please RSVP at
  marketing@sunshinecoastharley.com.au with:[..]\nhttps://rolliesspeedshop.c
 om/events/shop-ride-sunshine-coast-harley-davidson/
URL:https://rolliesspeedshop.com/events/shop-ride-sunshine-coast-harley-davidson/
END:VEVENT
END:VCALENDAR