BEGIN:VCALENDAR
VERSION:2.0
PRODID:-//eventon.com NONSGML v1.0//EN
CALSCALE:GREGORIAN
METHOD:PUBLISH
BEGIN:VEVENT
UID:69e7360063d7c
DTSTAMP:20260421T083200Z
DTSTART:20231202T020000Z
DTEND:20231202T132000Z
LOCATION:Harley Heaven Adelaide 230 Franklin St\,  Adelaide SA 5000
SUMMARY:H-H Shop Ride
DESCRIPTION:Harley-Heaven Adelaide &#8211; Shop Ride Join us for a Shop Rid
 e down to Pirate Life Brewery on December 2nd\,  2023! &#8211; Meet us at H
 arley-Heaven Adelaide at 12:30pm &#8211; Kickstands up at 1:00pm &#8211; Fi
 nishing at Life Brewery for a refreshing afternoon drink Don&#8217;t miss o
 ut on this epic summer[..]\nhttps://rolliesspeedshop.com/events/h-h-shop-ri
 de-9/
URL:https://rolliesspeedshop.com/events/h-h-shop-ride-9/
END:VEVENT
END:VCALENDAR