BEGIN:VCALENDAR
VERSION:2.0
PRODID:-//eventon.com NONSGML v1.0//EN
CALSCALE:GREGORIAN
METHOD:PUBLISH
BEGIN:VEVENT
UID:69e74cef972e1
DTSTAMP:20260421T100951Z
DTSTART:20240621T230000Z
DTEND:20240622T135900Z
LOCATION:Harley-Heaven Western Sydney 70 Sunnyholt Road
SUMMARY:H-H Shop Ride
DESCRIPTION:Harley-Heaven Western Sydney &#8211; Shop Ride Join the Harley-
 Heaven Western Sydney team and our amazing local Harley community for an un
 forgettable ride to Oaks Hotel! 📅 Date: June 22nd ⏰ Meet Time: 9:00am 
 🕤 Stands Up: 9:30am We’ll gather at 9:00am to gear up and catch up\,  
 then hit the[..]\nhttps://rolliesspeedshop.com/events/h-h-shop-ride-15/
URL:https://rolliesspeedshop.com/events/h-h-shop-ride-15/
END:VEVENT
END:VCALENDAR